BEGIN:VCALENDAR
VERSION:2.0
CALSCALE:GREGORIAN
PRODID:adamgibbons/ics
METHOD:PUBLISH
X-PUBLISHED-TTL:PT1H
BEGIN:VEVENT
UID:10954@www.bilbi.info
SUMMARY:PALESTINAR ERRESISTENTZIA
DTSTAMP:20260421T100548Z
DTSTART:20260423T170000Z
DTEND:20260423T183000Z
URL:https://www.bilbi.info/event/palestinar-erresistentzia
LOCATION:Arroka Herri Tailerra - Plaza Bilbao la Vieja
STATUS:CONFIRMED
CATEGORIES:Liburuak,Palestina,aurkezpena,liburu aurkezpena
END:VEVENT
BEGIN:VEVENT
UID:10964@www.bilbi.info
SUMMARY:LEOLEO CLUB DE LECTURA LGTBIQ+
DTSTAMP:20260421T100548Z
DTSTART:20260430T170000Z
DTEND:20260430T190000Z
URL:https://www.bilbi.info/event/leoleo-club-de-lectura-lgtbiq
LOCATION:Sarean - Mariaren Bihotza Plaza 4
STATUS:CONFIRMED
CATEGORIES:Lectura,Liburuak,LGTBIQ+
END:VEVENT
END:VCALENDAR
