BEGIN:VCALENDAR
VERSION:2.0
CALSCALE:GREGORIAN
PRODID:adamgibbons/ics
METHOD:PUBLISH
X-PUBLISHED-TTL:PT1H
BEGIN:VEVENT
UID:11046@www.bilbi.info
SUMMARY:CLASES DE EUSKARA BASICO ENTRE MUJERES
DTSTAMP:20260420T094254Z
DTSTART:20260424T150000Z
DTEND:20260424T163000Z
URL:https://www.bilbi.info/event/clases-de-euskara-basico-entre-mujeres-3
LOCATION:Koloretxe - Cortes 20
STATUS:CONFIRMED
CATEGORIES:Euskara,Feminismoa,Klaseak
END:VEVENT
END:VCALENDAR
