BEGIN:VCALENDAR
VERSION:2.0
CALSCALE:GREGORIAN
PRODID:adamgibbons/ics
METHOD:PUBLISH
X-PUBLISHED-TTL:PT1H
BEGIN:VEVENT
UID:10950@www.bilbi.info
SUMMARY:DOS DE MAYO MERKATUA INSCRIPCIONES
DTSTAMP:20260424T132716Z
DTSTART:20260405T220000Z
DTEND:20260514T220000Z
URL:https://www.bilbi.info/event/dos-de-mayo-merkatua-inscripciones-1
LOCATION:Dos de Mayo Merkatua - Dos de Mayo Merkatua
STATUS:CONFIRMED
CATEGORIES:Deialdia,Dos de Mayo Merkatua,Inscripciones
END:VEVENT
END:VCALENDAR
