BEGIN:VCALENDAR
VERSION:2.0
CALSCALE:GREGORIAN
PRODID:adamgibbons/ics
METHOD:PUBLISH
X-PUBLISHED-TTL:PT1H
BEGIN:VEVENT
UID:11075@www.bilbi.info
SUMMARY:ZURRUMURRUEN AURKAKO HAUSNARKETA GUNEA
DTSTAMP:20260423T145245Z
DTSTART:20260506T160000Z
DTEND:20260506T180000Z
URL:https://www.bilbi.info/event/zurrumurruen-aurkako-hausnarketa-gunea
LOCATION:San Francisco Auzo Etxea - Mariaren Bihotza plazan
STATUS:CONFIRMED
CATEGORIES:Antiarrazakeria,Hitzaldia
END:VEVENT
BEGIN:VEVENT
UID:11076@www.bilbi.info
SUMMARY:ZURRUMURRUEN AURKAKO HAUSNARKETA GUNEA
DTSTAMP:20260423T145245Z
DTSTART:20260514T160000Z
DTEND:20260514T180000Z
URL:https://www.bilbi.info/event/zurrumurruen-aurkako-hausnarketa-gunea-1
LOCATION:Munduko Medikuak - Bailen 1
STATUS:CONFIRMED
CATEGORIES:Antiarrazakeria,Hitzaldia
END:VEVENT
BEGIN:VEVENT
UID:10575@www.bilbi.info
SUMMARY:MUNDUKO ARROZAK
DTSTAMP:20260423T145245Z
DTSTART:20260613T100000Z
DTEND:20260613T160000Z
URL:https://www.bilbi.info/event/munduko-arrozak
LOCATION:Mariaren Bihotza plazan - Mariaren Bihotza plazan
STATUS:CONFIRMED
CATEGORIES:Feminismoa,Gastronomikoa,Antiarrazakeria,Munduko Arrozak,Interna
	tzionalismoa,Antifaxismoa,Elkartasuna,Euskara
END:VEVENT
END:VCALENDAR
