BEGIN:VCALENDAR
VERSION:2.0
CALSCALE:GREGORIAN
PRODID:adamgibbons/ics
METHOD:PUBLISH
X-PUBLISHED-TTL:PT1H
BEGIN:VEVENT
UID:10997@www.bilbi.info
SUMMARY:DELICE: Slow Fashion Night
DTSTAMP:20260423T133750Z
DTSTART:20260423T170000Z
DTEND:20260423T200000Z
URL:https://www.bilbi.info/event/delice-slow-fashion-night
LOCATION:Bilborock - Mesedeetako Kaia\, 1\, Ibaiondo\, 48003 Bilbao\, Bizka
	ia
STATUS:CONFIRMED
CATEGORIES:Fasion Show
END:VEVENT
BEGIN:VEVENT
UID:11033@www.bilbi.info
SUMMARY:DONDE LLORAN LOS OLIVOS
DTSTAMP:20260423T133750Z
DTSTART:20260428T170000Z
DTEND:20260428T193000Z
URL:https://www.bilbi.info/event/donde-lloran-los-olivos
LOCATION:Bilborock - Mesedeetako Kaia\, 1\, Ibaiondo\, 48003 Bilbao\, Bizka
	ia
STATUS:CONFIRMED
CATEGORIES:Dokumentala
END:VEVENT
BEGIN:VEVENT
UID:11050@www.bilbi.info
SUMMARY:BIDEOKLIPA: AZIZA Y EL ÚLTIMO HOMBRE BUENO
DTSTAMP:20260423T133750Z
DTSTART:20260429T180000Z
DTEND:20260429T200000Z
URL:https://www.bilbi.info/event/bideoklipa-aziza-y-el-ultimo-hombre-bueno
LOCATION:Bilborock - Mesedeetako Kaia\, 1\, Ibaiondo\, 48003 Bilbao\, Bizka
	ia
STATUS:CONFIRMED
CATEGORIES:Bideoklipa
END:VEVENT
END:VCALENDAR
