BEGIN:VCALENDAR
VERSION:2.0
CALSCALE:GREGORIAN
PRODID:adamgibbons/ics
METHOD:PUBLISH
X-PUBLISHED-TTL:PT1H
BEGIN:VEVENT
UID:11067@www.bilbi.info
SUMMARY:BUSTURIANA MAKAILOA
DTSTAMP:20260424T132814Z
DTSTART:20260426T100000Z
DTEND:20260426T130000Z
URL:https://www.bilbi.info/event/busturiana-makailoa
LOCATION:Goizalde kultur elkartea - Bilbo zaharreko plaza
STATUS:CONFIRMED
CATEGORIES:Gastronomikoa
END:VEVENT
END:VCALENDAR
