BEGIN:VCALENDAR
VERSION:2.0
CALSCALE:GREGORIAN
PRODID:adamgibbons/ics
METHOD:PUBLISH
X-PUBLISHED-TTL:PT1H
BEGIN:VEVENT
UID:11027@www.bilbi.info
SUMMARY:TXIKO TXOKO
DTSTAMP:20260421T104547Z
DTSTART:20260421T150000Z
DTEND:20260421T170000Z
URL:https://www.bilbi.info/event/txiko-txoko-2
GEO:43.2543093;-2.9240579
LOCATION:Xake Espazioa - Plaza Bilbao La VIeja
STATUS:CONFIRMED
CATEGORIES:Jokuak,Tailerra,Txiki Txoko
END:VEVENT
BEGIN:VEVENT
UID:11041@www.bilbi.info
SUMMARY:BERBALAGUN TALDEA
DTSTAMP:20260421T104547Z
DTSTART:20260423T173000Z
DTEND:20260423T183000Z
URL:https://www.bilbi.info/event/berbalagun-taldea-2
GEO:43.2543093;-2.9240579
LOCATION:Xake Espazioa - Plaza Bilbao La VIeja
STATUS:CONFIRMED
CATEGORIES:Euskara
END:VEVENT
BEGIN:VEVENT
UID:11020@www.bilbi.info
SUMMARY:ERRENTA AUZOAN
DTSTAMP:20260421T104547Z
DTSTART:20260530T100000Z
DTEND:20260530T130000Z
URL:https://www.bilbi.info/event/errenta-auzoan-1
GEO:43.2543093;-2.9240579
LOCATION:Xake Espazioa - Plaza Bilbao La VIeja
STATUS:CONFIRMED
CATEGORIES:Oficina
END:VEVENT
BEGIN:VEVENT
UID:11021@www.bilbi.info
SUMMARY:ERRENTA AUZOAN
DTSTAMP:20260421T104547Z
DTSTART:20260627T100000Z
DTEND:20260627T130000Z
URL:https://www.bilbi.info/event/errenta-auzoan-2
GEO:43.2543093;-2.9240579
LOCATION:Xake Espazioa - Plaza Bilbao La VIeja
STATUS:CONFIRMED
CATEGORIES:Oficina
END:VEVENT
END:VCALENDAR
