BEGIN:VCALENDAR
VERSION:2.0
CALSCALE:GREGORIAN
PRODID:adamgibbons/ics
METHOD:PUBLISH
X-PUBLISHED-TTL:PT1H
BEGIN:VEVENT
UID:10688@www.bilbi.info
SUMMARY:ETXE GORPUTZA KOMUNITATEA
DTSTAMP:20260421T084325Z
DTSTART:20260421T163000Z
DTEND:20260421T180000Z
URL:https://www.bilbi.info/event/etxe-gorputza-komunitatea-1
LOCATION:Koloretxe - Cortes 20
STATUS:CONFIRMED
CATEGORIES:Etxebizitza,Feminismoa,Tailerra
END:VEVENT
BEGIN:VEVENT
UID:10975@www.bilbi.info
SUMMARY:VIOLENCIAS DIGITALES
DTSTAMP:20260421T084325Z
DTSTART:20260422T160000Z
DTEND:20260422T180000Z
URL:https://www.bilbi.info/event/violencias-digitales-1
LOCATION:Koloretxe - Cortes 20
STATUS:CONFIRMED
CATEGORIES:Feminismoa,Hitzaldia
END:VEVENT
BEGIN:VEVENT
UID:11046@www.bilbi.info
SUMMARY:CLASES DE EUSKARA BASICO ENTRE MUJERES
DTSTAMP:20260421T084325Z
DTSTART:20260424T150000Z
DTEND:20260424T163000Z
URL:https://www.bilbi.info/event/clases-de-euskara-basico-entre-mujeres-3
LOCATION:Koloretxe - Cortes 20
STATUS:CONFIRMED
CATEGORIES:Klaseak,Euskara,Feminismoa
END:VEVENT
BEGIN:VEVENT
UID:10976@www.bilbi.info
SUMMARY:VIOLENCIAS DIGITALES
DTSTAMP:20260421T084325Z
DTSTART:20260429T160000Z
DTEND:20260429T180000Z
URL:https://www.bilbi.info/event/violencias-digitales-2
LOCATION:Koloretxe - Cortes 20
STATUS:CONFIRMED
CATEGORIES:Feminismoa,Hitzaldia
END:VEVENT
END:VCALENDAR
