BEGIN:VCALENDAR
VERSION:2.0
CALSCALE:GREGORIAN
PRODID:adamgibbons/ics
METHOD:PUBLISH
X-PUBLISHED-TTL:PT1H
BEGIN:VEVENT
UID:11075@www.bilbi.info
SUMMARY:ZURRUMURRUEN AURKAKO HAUSNARKETA GUNEA
DTSTAMP:20260423T161426Z
DTSTART:20260506T160000Z
DTEND:20260506T180000Z
URL:https://www.bilbi.info/event/zurrumurruen-aurkako-hausnarketa-gunea
LOCATION:San Francisco Auzo Etxea - Mariaren Bihotza plazan
STATUS:CONFIRMED
CATEGORIES:Antiarrazakeria,Hitzaldia
BEGIN:VALARM
ACTION:DISPLAY
DESCRIPTION:ZURRUMURRUEN AURKAKO HAUSNARKETA GUNEA
TRIGGER:-PT1H
END:VALARM
END:VEVENT
END:VCALENDAR
