BEGIN:VCALENDAR
VERSION:2.0
CALSCALE:GREGORIAN
PRODID:adamgibbons/ics
METHOD:PUBLISH
X-PUBLISHED-TTL:PT1H
BEGIN:VEVENT
UID:11024@www.bilbi.info
SUMMARY:MINTZA KULR TALDEA 
DTSTAMP:20260421T104006Z
DTSTART:20260421T163000Z
DTEND:20260421T173000Z
URL:https://www.bilbi.info/event/mintza-kulr-taldea-2
LOCATION:Bilbo Zaharreko Kultur Etxea - Urazurrutia 7
STATUS:CONFIRMED
CATEGORIES:Euskara,Mintza
BEGIN:VALARM
ACTION:DISPLAY
DESCRIPTION:MINTZA KULR TALDEA 
TRIGGER:-PT1H
END:VALARM
END:VEVENT
END:VCALENDAR
