BEGIN:VCALENDAR
VERSION:2.0
CALSCALE:GREGORIAN
PRODID:adamgibbons/ics
METHOD:PUBLISH
X-PUBLISHED-TTL:PT1H
BEGIN:VEVENT
UID:11064@www.bilbi.info
SUMMARY:LABORATORIO GRÁFICO Taller mensual multidisciplinar para adentrarse
	 en el arte sin normas con Eurie Cierbide
DTSTAMP:20260423T031206Z
DTSTART:20260508T153000Z
DTEND:20260508T173000Z
DESCRIPTION:El laboratorio gráfico es un taller mensual de arte multidiscip
	linar para\nexplorar\, jugar\, romper el bloqueo\, dejarse llevar\, deshac
	ernos del\nperfeccionismo y probar técnicas nuevas.\n\nUn espacio artístic
	o donde lo importante es el proceso\, no el resultado y nos\nnutrimos de c
	ompartir mesa y herramientas.\n\nEn cada taller exploraremos una técnica y
	 materiales diferentes y la pondremos\nen práctica. Utilizaremos métodos a
	lejados de nuestras prácticas cotidianas\,\ncomo el arte del arrastre\,la 
	estampación casera\, el recorte y el desorden\, la\nintervención artística
	...\nUsaremos materiales en su mayoría reciclados.\nEste será un espacio e
	xploratorio\, lúdico\, reflexivo y libre de juicios\, donde\nno se requier
	en conocimientos previos ni experiencia artística.\nEste taller es parte d
	e un ciclo\, pero siempre puedes apuntarte a talleres\nsueltos.\n\n \n\n \
	n\nEurie Cierbide (elle/ella) es un artista contrakultural\, crea desde lo
	s márgenes\ny fuera de los círculos establecidos. Utiliza el arte como una
	 herramienta para\nhacer critica y reflexión social.\n\nEn sus talleres qu
	iere romper con la  idea clasista de que el arte sólo\npertenece a les art
	istas y entender que no hay una manera correcta de crear.\n\n\nFecha: vier
	nes 8 de mayo\nHorario: de 17:30 a 19:30 \nPrecio: 30€ (material incluido\
	, se paga al inscribirse)\n25€ si vienes acompañade o repites taller.\nCon
	tacto e inscripciones: @euriecie 604153547
URL:https://www.bilbi.info/event/laboratorio-grafico-taller-mensual-multidi
	sciplinar-para-adentrarse-en-el-arte-sin-normas-con-eurie-cierbide
LOCATION:Antiliburudenda - 2 de Mayo 2
STATUS:CONFIRMED
CATEGORIES:taller,Laboratorio gráfico
X-ALT-DESC;FMTTYPE=text/html:<p>El laboratorio gráfico es un taller mensual
	 de arte multidisciplinar para explorar, jugar, romper el bloqueo, dejarse
	 llevar, deshacernos del perfeccionismo y probar técnicas nuevas.</p><p>Un
	 espacio artístico donde lo importante es el proceso, no el resultado y no
	s nutrimos de compartir mesa y herramientas.<br><br>En cada taller explora
	remos una técnica y materiales diferentes y la pondremos en práctica. Util
	izaremos métodos alejados de nuestras prácticas cotidianas, como el arte d
	el arrastre,la estampación casera, el recorte y el desorden, la intervenci
	ón artística...<br>Usaremos materiales en su mayoría reciclados.<br>Este s
	erá un espacio exploratorio, lúdico, reflexivo y libre de juicios, donde n
	o se requieren conocimientos previos ni experiencia artística.<br>Este tal
	ler es parte de un ciclo, pero siempre puedes apuntarte a talleres sueltos
	.</p><p>&nbsp;</p><p>&nbsp;</p><p><strong>Eurie Cierbide</strong> (elle/el
	la) es un artista contrakultural, crea desde los márgenes y fuera de los c
	írculos establecidos. Utiliza el arte como una herramienta para hacer crit
	ica y reflexión social.</p><p>En sus talleres quiere romper con la&nbsp; i
	dea clasista de que el arte sólo pertenece a les artistas y entender que n
	o hay una manera correcta de crear.</p><p><br><strong>Fecha: </strong>vier
	nes 8 de mayo<br><strong>Horario:&nbsp;</strong>de 17:30 a 19:30&nbsp;<br>
	<strong>Precio:</strong>&nbsp;30€ (material incluido, se paga al inscribir
	se)<br>25€ si vienes acompañade o repites taller.<br><strong>Contacto e in
	scripciones</strong>:&nbsp;@euriecie 604153547</p>
BEGIN:VALARM
ACTION:DISPLAY
DESCRIPTION:LABORATORIO GRÁFICO Taller mensual multidisciplinar para adentr
	arse en el arte sin normas con Eurie Cierbide
TRIGGER:-PT1H
END:VALARM
END:VEVENT
END:VCALENDAR
