BEGIN:VCALENDAR
VERSION:2.0
CALSCALE:GREGORIAN
PRODID:adamgibbons/ics
METHOD:PUBLISH
X-PUBLISHED-TTL:PT1H
BEGIN:VEVENT
UID:11053@www.bilbi.info
SUMMARY:GLUE + SOGA
DTSTAMP:20260423T044238Z
DTSTART:20260512T180000Z
DTEND:20260512T200000Z
DESCRIPTION:Maiatzean oraindik sartu ez garen arren\, badaukagu zuentzako b
	igarren plana!💥\n\n\n\n📍 Betiko tokian: Sarean gunean\n\n🕗 Betiko orduan: 
	20:00etan puntuan\n\n📅 Maiatzak 12an\n\n\n\nEgun horretako talde indartsu 
	bi hauek izango ditugu:\n\n\n\n🕺GLUE: Austinetik datorren hardcore taldea.
	 Azkarra\, zuzena eta intentsitate\nhandikoa.\n\nhttps://gluetx.bandcamp.c
	om/album/glue-s-t\n[https://gluetx.bandcamp.com/album/glue-s-t]\n\n\n\n\n\
	n🕺SOGA: Mexikotik datorren punk talde hirukotea. Soinu zikina\, jarrera bo
	rtitza\neta energia handikoa zuzenean.\n\nhttps://soga.bandcamp.com/album/
	corrosi-n\n[https://soga.bandcamp.com/album/corrosi-n]\n\n\n\nBeste egun b
	at zarataz gozatzeko🔥\n\n\n\nAfter Post 🦇
URL:https://www.bilbi.info/event/glue-soga
LOCATION:Sarean - Mariaren Bihotza Plaza 4
STATUS:CONFIRMED
CATEGORIES:Kontzertuak
X-ALT-DESC;FMTTYPE=text/html:<p>Maiatzean oraindik sartu ez garen arren, ba
	daukagu zuentzako bigarren plana!💥 </p><p></p><p>📍 Betiko tokian: Sarean g
	unean</p><p>🕗 Betiko orduan: 20:00etan puntuan</p><p>📅 Maiatzak 12an</p><p
	></p><p>Egun horretako talde indartsu bi hauek izango ditugu:</p><p></p><p
	>🕺GLUE: Austinetik datorren hardcore taldea. Azkarra, zuzena eta intentsit
	ate handikoa.</p><p><a href="https://gluetx.bandcamp.com/album/glue-s-t" t
	arget="_blank">https://gluetx.bandcamp.com/album/glue-s-t</a></p><p></p><p
	></p><p>🕺SOGA: Mexikotik datorren punk talde hirukotea. Soinu zikina, jarr
	era bortitza eta energia handikoa zuzenean. </p><p><a href="https://soga.b
	andcamp.com/album/corrosi-n" target="_blank">https://soga.bandcamp.com/alb
	um/corrosi-n</a></p><p></p><p>Beste egun bat zarataz gozatzeko🔥</p><p></p>
	<p>After Post 🦇</p>
BEGIN:VALARM
ACTION:DISPLAY
DESCRIPTION:GLUE + SOGA
TRIGGER:-PT1H
END:VALARM
END:VEVENT
END:VCALENDAR
