BEGIN:VCALENDAR
VERSION:2.0
CALSCALE:GREGORIAN
PRODID:adamgibbons/ics
METHOD:PUBLISH
X-PUBLISHED-TTL:PT1H
BEGIN:VEVENT
UID:11071@www.bilbi.info
SUMMARY:ERREZETA - LIBURU KOLEKTIBOA TAILERRA
DTSTAMP:20260423T123021Z
DTSTART:20260428T160000Z
DTEND:20260428T180000Z
URL:https://www.bilbi.info/event/errezeta-liburu-kolektiboa-tailerra
LOCATION:Bilbo Zaharreko Kultur Etxea - Urazurrutia 7
STATUS:CONFIRMED
CATEGORIES:Gastronomikoa,Liburuak,Tailerra
BEGIN:VALARM
ACTION:DISPLAY
DESCRIPTION:ERREZETA - LIBURU KOLEKTIBOA TAILERRA
TRIGGER:-PT1H
END:VALARM
END:VEVENT
END:VCALENDAR
