BEGIN:VCALENDAR
VERSION:2.0
CALSCALE:GREGORIAN
PRODID:adamgibbons/ics
METHOD:PUBLISH
X-PUBLISHED-TTL:PT1H
BEGIN:VEVENT
UID:11031@www.bilbi.info
SUMMARY:DESPEDIDA BAR EL GALLO
DTSTAMP:20260420T111614Z
DTSTART:20260417T170000Z
DTEND:20260417T190000Z
URL:https://www.bilbi.info/event/despedida-bar-el-gallo
LOCATION:Bar el Gallo - Cortes 14
STATUS:CONFIRMED
CATEGORIES:Kontzertuak
BEGIN:VALARM
ACTION:DISPLAY
DESCRIPTION:DESPEDIDA BAR EL GALLO
TRIGGER:-PT1H
END:VALARM
END:VEVENT
END:VCALENDAR
