BEGIN:VCALENDAR
VERSION:2.0
CALSCALE:GREGORIAN
PRODID:adamgibbons/ics
METHOD:PUBLISH
X-PUBLISHED-TTL:PT1H
BEGIN:VEVENT
UID:11047@www.bilbi.info
SUMMARY:BOLLEREN IKUSGARRITASUNAREN EGUNEAN
DTSTAMP:20260424T162911Z
DTSTART:20260426T103000Z
DTEND:20260426T113000Z
URL:https://www.bilbi.info/event/bolleren-ikusgarritasunaren-egunean
LOCATION:Plaza de las Mujeres - C/ Bailén 1
STATUS:CONFIRMED
CATEGORIES:Kontzentrazioa,Performance
BEGIN:VALARM
ACTION:DISPLAY
DESCRIPTION:BOLLEREN IKUSGARRITASUNAREN EGUNEAN
TRIGGER:-PT1H
END:VALARM
END:VEVENT
END:VCALENDAR
