BEGIN:VCALENDAR
VERSION:2.0
CALSCALE:GREGORIAN
PRODID:adamgibbons/ics
METHOD:PUBLISH
X-PUBLISHED-TTL:PT1H
BEGIN:VEVENT
UID:11001@www.bilbi.info
SUMMARY:Bisita gidatua: Josefaren heriotza Bilboko plazan
DTSTAMP:20260425T034935Z
DTSTART:20260425T090000Z
DTEND:20260425T103000Z
DESCRIPTION:📜 Bisita gidatua: Josefaren heriotza Bilboko plazan\n\n\n\n1829
	ko udaberrian\, goizeko 11etan\, Josefa Abrisketaren heriotzak Bilboko pla
	za\nastindu zuen. Istorioa berriz bizitzeko aukera:\n\n\n\n🗓 Apirilak 25\n
	\n🕚 11:00etan\n\n📍 Hasiera: Mariaren Bihotza plaza (bus geltokia)\n\n\n\nE
	dorta Jimenezek gidatuta\, garaiko testuingurua\, pertsonaiak eta gertakar
	ia\nezagutuko ditugu Bilbo Zaharrean.\n\n\n\n👥 Mugatua (20 lagun)\n\n💸 Par
	tehartzea: borondatea\n\n📩 Izena: ijimenez.edorta@gmail.com\n\n\n\nHistori
	a beltza\, memoria eta hiria uztartzen dituen esperientzia. Animatu!
URL:https://www.bilbi.info/event/bisita-gidatua-josefaren-heriotza-bilboko-
	plazan
LOCATION:Mariaren Bihotza plazan - Mariaren Bihotza plazan
STATUS:CONFIRMED
CATEGORIES:Bisita Gidatua,Memoria Historikoa
X-ALT-DESC;FMTTYPE=text/html:<p>📜 Bisita gidatua: Josefaren heriotza Bilbok
	o plazan</p><p></p><p>1829ko udaberrian, goizeko 11etan, Josefa Abrisketar
	en heriotzak Bilboko plaza astindu zuen. Istorioa berriz bizitzeko aukera:
	</p><p></p><p>🗓 Apirilak 25</p><p>🕚 11:00etan</p><p>📍 Hasiera: Mariaren Bi
	hotza plaza (bus geltokia)</p><p></p><p>Edorta Jimenezek gidatuta, garaiko
	 testuingurua, pertsonaiak eta gertakaria ezagutuko ditugu Bilbo Zaharrean
	.</p><p></p><p>👥 Mugatua (20 lagun)</p><p>💸 Partehartzea: borondatea</p><p
	>📩 Izena: ijimenez.edorta@gmail.com</p><p></p><p>Historia beltza, memoria 
	eta hiria uztartzen dituen esperientzia. Animatu!</p>
BEGIN:VALARM
ACTION:DISPLAY
DESCRIPTION:Bisita gidatua: Josefaren heriotza Bilboko plazan
TRIGGER:-PT1H
END:VALARM
END:VEVENT
END:VCALENDAR
