BEGIN:VCALENDAR
VERSION:2.0
CALSCALE:GREGORIAN
PRODID:adamgibbons/ics
METHOD:PUBLISH
X-PUBLISHED-TTL:PT1H
BEGIN:VEVENT
UID:11050@www.bilbi.info
SUMMARY:BIDEOKLIPA: AZIZA Y EL ÚLTIMO HOMBRE BUENO
DTSTAMP:20260423T145932Z
DTSTART:20260429T180000Z
DTEND:20260429T200000Z
DESCRIPTION:🎬✨ BIDEOKLIPA: AZIZA Y EL ÚLTIMO HOMBRE BUENO ✨🎬\n\n\n\nDavid O
	ntoriak zuzendutako “Aziza y el último hombre bueno” fantasiazko film\nlab
	urraren aurrestreinaldia\, taldearen parte batekin.\n\n\n\n🎭Proiekzioaren 
	ondoren\, solasaldi irekia egongo da\, iritziak partekatzeko eta\ngalderak
	 egiteko.\n\n\n\nParte hartzaileak: Gorka Aguinagalde\, Jorge Santos\, Txa
	ro Kandler eta Eneko\nArcas.\n\n\n\n📅Apirilaren 29an\n\n⏰20:00\n\n📍Bilboro
	ck\n\n🎟Sarrera doan\n\n\n\n-\n\n🎬✨ #BIDEOKLIPA: AZIZA Y EL ÚLTIMO HOMBRE B
	UENO ✨🎬\n\n\n\nPreestreno del cortometraje de fantasía “Aziza y el último 
	hombre bueno”\,\ndirigido por David Ontoria\, con la presencia de parte de
	l equipo.\n\nTras la proyección\, habrá coloquio abierto para compartir im
	presiones y hacer\npreguntas.\n\n\n\n🎭 Con la participación de: Gorka Agui
	nagalde\, Jorge Santos\, Txaro Kandler y\nEneko Arcas.\n\n\n\n📅 29 de abri
	l\n\n⏰20:00\n\n📍 Bilborock\n\n\n\n@cinematicd_\n\n🎟 Entrada gratuita\n\n\n
	\n#Bilborock #Bideoklipa #Cine #Zinea
URL:https://www.bilbi.info/event/bideoklipa-aziza-y-el-ultimo-hombre-bueno
LOCATION:Bilborock - Mesedeetako Kaia\, 1\, Ibaiondo\, 48003 Bilbao\, Bizka
	ia
STATUS:CONFIRMED
CATEGORIES:Bideoklipa
X-ALT-DESC;FMTTYPE=text/html:<p>🎬✨ BIDEOKLIPA: AZIZA Y EL ÚLTIMO HOMBRE BUE
	NO ✨🎬</p><p></p><p>David Ontoriak zuzendutako “Aziza y el último hombre bu
	eno” fantasiazko film laburraren aurrestreinaldia, taldearen parte batekin
	.</p><p></p><p>🎭Proiekzioaren ondoren, solasaldi irekia egongo da, iritzia
	k partekatzeko eta galderak egiteko.</p><p></p><p>Parte hartzaileak: Gorka
	 Aguinagalde, Jorge Santos, Txaro Kandler eta Eneko Arcas.</p><p></p><p>📅A
	pirilaren 29an</p><p>⏰20:00</p><p>📍Bilborock</p><p>🎟Sarrera doan</p><p></p
	><p>-</p><p>🎬✨ #BIDEOKLIPA: AZIZA Y EL ÚLTIMO HOMBRE BUENO ✨🎬</p><p></p><p
	>Preestreno del cortometraje de fantasía “Aziza y el último hombre bueno”,
	 dirigido por David Ontoria, con la presencia de parte del equipo.</p><p>T
	ras la proyección, habrá coloquio abierto para compartir impresiones y hac
	er preguntas.</p><p></p><p>🎭 Con la participación de: Gorka Aguinagalde, J
	orge Santos, Txaro Kandler y Eneko Arcas.</p><p></p><p>📅 29 de abril</p><p
	>⏰20:00</p><p>📍 Bilborock</p><p></p><p>@cinematicd_  </p><p>🎟 Entrada grat
	uita</p><p></p><p>#Bilborock #Bideoklipa #Cine #Zinea</p>
BEGIN:VALARM
ACTION:DISPLAY
DESCRIPTION:BIDEOKLIPA: AZIZA Y EL ÚLTIMO HOMBRE BUENO
TRIGGER:-PT1H
END:VALARM
END:VEVENT
END:VCALENDAR
