BEGIN:VCALENDAR
VERSION:2.0
CALSCALE:GREGORIAN
PRODID:adamgibbons/ics
METHOD:PUBLISH
X-PUBLISHED-TTL:PT1H
BEGIN:VEVENT
UID:11052@www.bilbi.info
SUMMARY:AUZO ASANBLADA
DTSTAMP:20260423T132646Z
DTSTART:20260423T170000Z
DTEND:20260423T183000Z
URL:https://www.bilbi.info/event/auzo-asanblada
LOCATION:Munduko Medikuak - Bailen 1
STATUS:CONFIRMED
CATEGORIES:Asanblada Irekia,Asanblada,Auzo Asanblada
BEGIN:VALARM
ACTION:DISPLAY
DESCRIPTION:AUZO ASANBLADA
TRIGGER:-PT1H
END:VALARM
END:VEVENT
END:VCALENDAR
