BEGIN:VCALENDAR
VERSION:2.0
CALSCALE:GREGORIAN
PRODID:adamgibbons/ics
METHOD:PUBLISH
X-PUBLISHED-TTL:PT1H
BEGIN:VEVENT
UID:11065@www.bilbi.info
SUMMARY:Aurkezpena Presentación del libro ABRIR LA VISIÓN El legado de Toni
	 Serra *) Abu Ali Con la coordinación editorial de Gabriel Villota Toyos y
	 de Palmar Álvarez-Blanco
DTSTAMP:20260422T135037Z
DTSTART:20260422T173000Z
DTEND:20260422T183000Z
DESCRIPTION:Abrir la Visión es el libro homenaje editado por La Vorágine co
	n la coordinación\neditorial de Gabriel Villota Toyos y de Palmar Álvarez-
	Blanco. En Abrir la\nVisión se incluye una buena parte de la creación escr
	ita de este poeta\,\nvideoartista y agitador cultural\, así como textos de
	 muchas de las personas que\ntuvieron la fortuna de cruzarse en su camino.
	\n\nToni Serra\, como lo definen sus compañeros de viaje\, fue más que un 
	artista.\n“Era un buscador de la luz: un místico contemporáneo habituado a
	 sumergirse\ntanto en las aguas de la vanguardia audiovisual y poética com
	o en la mística del\nsufismo. Su obra y su vida dan testimonio de una acti
	tud de honesto compromiso\ncon nuestro tiempo”. Tras una etapa de aprendiz
	aje colectivo en Nueva York\,\nSerra regresó a Barcelona para implicarse t
	anto en la realización de sus propias\ncintas de vídeo como en diversas ac
	tividades creativas\, divulgativas y\neducativas: la edición de revistas y
	 fanzines\, la creación de plataformas\nindependientes de creadores (como 
	“La 12 Visual”)\, y la difusión y exhibición de\nobras propias y ajenas. E
	n los noventa inicia junto a otras personas el\nEncuentro OVNI\, un proces
	o y archivo de unos 30 años de trayectoria. Hoy OVNI\nrepresenta uno de lo
	s legados más importantes del vídeo experimental e\nindependiente\, tanto 
	dentro como fuera del Estado español.
URL:https://www.bilbi.info/event/aurkezpena-presentacion-del-libro-abrir-la
	-vision-el-legado-de-toni-serra-abu-ali-con-la-coordinacion-editorial-de-g
	abriel-villota-toyos-y-de-palmar-alvarez-blanco
LOCATION:Antiliburudenda - 2 de Mayo 2
STATUS:CONFIRMED
CATEGORIES:Liburuak,aurkezpena,liburu aurkezpena
X-ALT-DESC;FMTTYPE=text/html:<p>Abrir la Visión es el libro homenaje editad
	o por La Vorágine con la coordinación editorial de Gabriel Villota Toyos y
	 de Palmar Álvarez-Blanco. En Abrir la Visión se incluye una buena parte d
	e la creación escrita de este poeta, videoartista y agitador cultural, así
	 como textos de muchas de las personas que tuvieron la fortuna de cruzarse
	 en su camino.<br><br>Toni Serra, como lo definen sus compañeros de viaje,
	 fue más que un artista. “Era un buscador de la luz: un místico contemporá
	neo habituado a sumergirse tanto en las aguas de la vanguardia audiovisual
	 y poética como en la mística del sufismo. Su obra y su vida dan testimoni
	o de una actitud de honesto compromiso con nuestro tiempo”. Tras una etapa
	 de aprendizaje colectivo en Nueva York, Serra regresó a Barcelona para im
	plicarse tanto en la realización de sus propias cintas de vídeo como en di
	versas actividades creativas, divulgativas y educativas: la edición de rev
	istas y fanzines, la creación de plataformas independientes de creadores (
	como “La 12 Visual”), y la difusión y exhibición de obras propias y ajenas
	. En los noventa inicia junto a otras personas el Encuentro OVNI, un proce
	so y archivo de unos 30 años de trayectoria. Hoy OVNI representa uno de lo
	s legados más importantes del vídeo experimental e independiente, tanto de
	ntro como fuera del Estado español.</p>
BEGIN:VALARM
ACTION:DISPLAY
DESCRIPTION:Aurkezpena Presentación del libro ABRIR LA VISIÓN El legado de 
	Toni Serra *) Abu Ali Con la coordinación editorial de Gabriel Villota Toy
	os y de Palmar Álvarez-Blanco
TRIGGER:-PT1H
END:VALARM
END:VEVENT
END:VCALENDAR
